BEGIN:VCALENDAR
VERSION:2.0
PRODID:-//Eventin//Event Calendar//EN
CALSCALE:GREGORIAN
METHOD:PUBLISH
BEGIN:VEVENT
UID:f2f32053f95d1a7c6c246d2826f5a31a@digitalartlive.com
SUMMARY:The Creative Cart : The Perfect Escape
DESCRIPTION: \nPerfect Escape: Classic Cars\, City Streets & Cinematic Adv
 enture Scenes\nSunday 26th April – 20:00 BST (London) / 15:00 EDT (New Yo
 rk) / 12:00 PDT (Los Angeles)\n \nJoin us live for another action packed C
 reative Cart session with Dartanbeck as he explores exciting new tools and 
 assets for building stylish action scenes\, retro adventures\, and cinemati
 c city environments.\n \n(Get an insightful summary of all content covered
  in this episode from Dartanbeck's website)\n \n[embed]https://youtu.be/DQ
 OVwa1vMBs?si=iU78U-AOq-aeOq3r[/embed]\n \nIn this episode\, Dartanbeck tak
 es a look at Linday's Perfect Escape Bundle — featuring a beautifully cra
 fted 1950s classic American automobile\, ready to work seamlessly with Lind
 ay's Animation Four-Wheeler Template System right out of the box. Perfect f
 or storytellers\, animators\, and anyone wanting to bring movement and pers
 onality to their scenes.\n \nHe’ll also demonstrate the Car Chase Add-On
  Pack\, showing how to create dynamic pursuit scenes\, dramatic motion\, an
 d action-packed storytelling moments with speed and ease.\n \nTo complete 
 the world around your story\, Dartanbeck will share fun and fast ways to bu
 ild the perfect city backdrop using Stonemason’s Urban Sprawl 3\, enhance
 d further with Imagine X Cityscape Backdrops for quick depth\, scale\, and 
 atmosphere.\n \nIf you create comics\, still art\, animation\, or visual s
 tories\, this session is packed with practical ideas you can apply immediat
 ely.\nIn this Live Session You’ll See:\n \n•How to use the Perfect Esc
 ape Bundle for retro-style storytelling\n•Creating believable moving vehi
 cle scenes\n•Building car chase sequences quickly\n•Fast methods for co
 nstructing detailed urban environments\n•Combining foreground sets with b
 ackdrop systems for cinematic scale\n•Tips\, ideas\, and workflow inspira
 tion from Dartanbeck\n \nLive Community Format\n \nAs always with Creativ
 e Cart\, this is more than a presentation. Join fellow artists live\, ask q
 uestions in chat\, and enjoy a relaxed\, idea-filled evening focused on cre
 ativity and scene building.\n \n\n \nAbout the Presenter\n \nDartanbeck 
 is a long-time digital artist\, animator\, and published content creator kn
 own for his enthusiasm\, practical teaching style\, and deep experience in 
 visual storytelling. From early game art and texture creation through to an
 imation packs and environment kits\, he has helped many artists get more fr
 om tools such as DAZ Studio and Carrara.\nToday he continues creating anima
 ted projects while sharing techniques\, discoveries\, and creative workflow
 s with the community.
LOCATION:Online
DTSTAMP:20260420T131447Z
DTSTART:20260426T190000Z
DTEND:20260426T200000Z
END:VEVENT
END:VCALENDAR
